Package: cycle Version: 1.60.0 Command: rm -rf cycle.buildbin-libdir && mkdir cycle.buildbin-libdir && /Users/biocbuild/BBS/utils/build-universal.sh cycle_1.60.0.tar.gz /Library/Frameworks/R.framework/Resources/bin/R cycle.buildbin-libdir StartedAt: 2025-02-05 15:27:59 -0500 (Wed, 05 Feb 2025) EndedAt: 2025-02-05 15:28:05 -0500 (Wed, 05 Feb 2025) EllapsedTime: 6.6 seconds RetCode: 0 Status: OK PackageFile: cycle_1.60.0.tgz PackageFileSize: 266.9 KiB