Package: cycle Version: 1.60.0 Command: /Library/Frameworks/R.framework/Resources/bin/R CMD build --keep-empty-dirs --no-resave-data cycle StartedAt: 2025-02-03 21:46:32 -0500 (Mon, 03 Feb 2025) EndedAt: 2025-02-03 21:47:00 -0500 (Mon, 03 Feb 2025) EllapsedTime: 28.5 seconds RetCode: 0 Status: OK PackageFile: cycle_1.60.0.tar.gz PackageFileSize: 247.7 KiB