Package: cycle Version: 1.60.0 Command: /Library/Frameworks/R.framework/Resources/bin/R CMD INSTALL cycle StartedAt: 2025-02-10 15:10:21 -0500 (Mon, 10 Feb 2025) EndedAt: 2025-02-10 15:10:47 -0500 (Mon, 10 Feb 2025) EllapsedTime: 25.6 seconds RetCode: 0 Status: OK