Package: cycle Version: 1.60.0 Command: /home/biocbuild/bbs-3.20-bioc/R/bin/R CMD build --keep-empty-dirs --no-resave-data --md5 cycle StartedAt: 2025-02-03 17:03:33 -0500 (Mon, 03 Feb 2025) EndedAt: 2025-02-03 17:03:56 -0500 (Mon, 03 Feb 2025) EllapsedTime: 23.0 seconds RetCode: 0 Status: OK PackageFile: cycle_1.60.0.tar.gz PackageFileSize: 248.3 KiB