Package: cycle Version: 1.60.0 Command: /home/biocbuild/bbs-3.20-bioc/R/bin/R CMD INSTALL cycle StartedAt: 2025-02-03 15:18:15 -0500 (Mon, 03 Feb 2025) EndedAt: 2025-02-03 15:18:23 -0500 (Mon, 03 Feb 2025) EllapsedTime: 8.6 seconds RetCode: 0 Status: OK