Package: cycle Version: 1.60.0 Command: /home/biocbuild/R/R/bin/R CMD build --keep-empty-dirs --no-resave-data cycle StartedAt: 2025-02-03 22:57:09 -0000 (Mon, 03 Feb 2025) EndedAt: 2025-02-03 22:57:41 -0000 (Mon, 03 Feb 2025) EllapsedTime: 32.0 seconds RetCode: 0 Status: OK PackageFile: cycle_1.60.0.tar.gz PackageFileSize: 241 KiB