Package: cycle Version: 1.60.0 Command: /home/biocbuild/R/R/bin/R CMD check --install=check:cycle.install-out.txt --library=/home/biocbuild/R/R/site-library --no-vignettes --timings cycle_1.60.0.tar.gz StartedAt: 2025-02-11 05:18:28 -0000 (Tue, 11 Feb 2025) EndedAt: 2025-02-11 05:18:55 -0000 (Tue, 11 Feb 2025) EllapsedTime: 27.0 seconds RetCode: 0 Status: WARNINGS CheckDir: cycle.Rcheck Warnings: 1