Package: cycle Version: 1.60.0 Command: /home/biocbuild/R/R/bin/R CMD INSTALL cycle StartedAt: 2025-02-03 20:28:03 -0000 (Mon, 03 Feb 2025) EndedAt: 2025-02-03 20:28:39 -0000 (Mon, 03 Feb 2025) EllapsedTime: 36.6 seconds RetCode: 0 Status: OK