Package: cydar Version: 1.30.0 Command: /Library/Frameworks/R.framework/Resources/bin/R CMD build --keep-empty-dirs --no-resave-data cydar StartedAt: 2025-02-13 21:53:09 -0500 (Thu, 13 Feb 2025) EndedAt: 2025-02-13 21:54:27 -0500 (Thu, 13 Feb 2025) EllapsedTime: 77.9 seconds RetCode: 0 Status: OK PackageFile: cydar_1.30.0.tar.gz PackageFileSize: 744.2 <A href="http://en.wikipedia.org/wiki/KiB" target="_blank">KiB</A>