Package: cytoMEM Version: 1.10.0 Command: /Library/Frameworks/R.framework/Resources/bin/R CMD build --keep-empty-dirs --no-resave-data cytoMEM StartedAt: 2025-02-03 21:51:57 -0500 (Mon, 03 Feb 2025) EndedAt: 2025-02-03 21:52:18 -0500 (Mon, 03 Feb 2025) EllapsedTime: 20.7 seconds RetCode: 0 Status: OK PackageFile: cytoMEM_1.10.0.tar.gz PackageFileSize: 3.075 MiB