Package: cytoMEM Version: 1.10.0 Command: /Library/Frameworks/R.framework/Resources/bin/R CMD check --install=check:cytoMEM.install-out.txt --library=/Library/Frameworks/R.framework/Resources/library --no-vignettes --timings cytoMEM_1.10.0.tar.gz StartedAt: 2025-02-04 02:11:45 -0500 (Tue, 04 Feb 2025) EndedAt: 2025-02-04 02:14:03 -0500 (Tue, 04 Feb 2025) EllapsedTime: 138.6 seconds RetCode: 0 Status: OK CheckDir: cytoMEM.Rcheck Warnings: 0