Package: cytomapper Version: 1.18.0 Command: /Library/Frameworks/R.framework/Resources/bin/R CMD build --keep-empty-dirs --no-resave-data cytomapper StartedAt: 2025-02-03 21:50:33 -0500 (Mon, 03 Feb 2025) EndedAt: 2025-02-03 21:52:24 -0500 (Mon, 03 Feb 2025) EllapsedTime: 110.8 seconds RetCode: 0 Status: OK PackageFile: cytomapper_1.18.0.tar.gz PackageFileSize: 21.49 MiB