Package: cytomapper Version: 1.18.0 Command: /Library/Frameworks/R.framework/Resources/bin/R CMD INSTALL cytomapper StartedAt: 2025-02-03 16:15:08 -0500 (Mon, 03 Feb 2025) EndedAt: 2025-02-03 16:17:13 -0500 (Mon, 03 Feb 2025) EllapsedTime: 125.1 seconds RetCode: 0 Status: OK