Package: cytomapper Version: 1.18.0 Command: /home/biocbuild/bbs-3.20-bioc/R/bin/R CMD check --install=check:cytomapper.install-out.txt --library=/home/biocbuild/bbs-3.20-bioc/R/site-library --timings cytomapper_1.18.0.tar.gz StartedAt: 2025-02-03 21:30:16 -0500 (Mon, 03 Feb 2025) EndedAt: 2025-02-03 21:45:10 -0500 (Mon, 03 Feb 2025) EllapsedTime: 893.8 seconds RetCode: 0 Status: OK CheckDir: cytomapper.Rcheck Warnings: 0