Package: cytomapper Version: 1.18.0 Command: chmod a+r cytomapper -R && F:\biocbuild\bbs-3.20-bioc\R\bin\R.exe CMD build --keep-empty-dirs --no-resave-data cytomapper StartedAt: 2025-02-10 18:22:35 -0500 (Mon, 10 Feb 2025) EndedAt: 2025-02-10 18:25:20 -0500 (Mon, 10 Feb 2025) EllapsedTime: 164.7 seconds RetCode: 0 Status: OK PackageFile: cytomapper_1.18.0.tar.gz PackageFileSize: 20.89 MiB