Package: cytoviewer Version: 1.6.0 Command: /Library/Frameworks/R.framework/Resources/bin/R CMD build --keep-empty-dirs --no-resave-data cytoviewer StartedAt: 2025-02-03 18:16:54 -0500 (Mon, 03 Feb 2025) EndedAt: 2025-02-03 18:19:34 -0500 (Mon, 03 Feb 2025) EllapsedTime: 160.3 seconds RetCode: 0 Status: OK PackageFile: cytoviewer_1.6.0.tar.gz PackageFileSize: 9.26 MiB