Package: dStruct Version: 1.12.0 Command: /Library/Frameworks/R.framework/Resources/bin/R CMD INSTALL dStruct StartedAt: 2025-02-17 15:33:05 -0500 (Mon, 17 Feb 2025) EndedAt: 2025-02-17 15:33:09 -0500 (Mon, 17 Feb 2025) EllapsedTime: 4.7 seconds RetCode: 0 Status: OK