Package: dStruct
Version: 1.12.0
Command: /Library/Frameworks/R.framework/Resources/bin/R CMD INSTALL dStruct
StartedAt: 2024-11-08 15:18:44 -0500 (Fri, 08 Nov 2024)
EndedAt: 2024-11-08 15:18:45 -0500 (Fri, 08 Nov 2024)
EllapsedTime: 1.0 seconds
RetCode: 0
Status: OK