Package: dStruct
Version: 1.12.0
Command: rm -rf dStruct.buildbin-libdir && mkdir dStruct.buildbin-libdir && /Users/biocbuild/BBS/utils/build-universal.sh dStruct_1.12.0.tar.gz /Library/Frameworks/R.framework/Resources/bin/R dStruct.buildbin-libdir
StartedAt: 2024-11-20 04:24:42 -0500 (Wed, 20 Nov 2024)
EndedAt: 2024-11-20 04:24:49 -0500 (Wed, 20 Nov 2024)
EllapsedTime: 6.7 seconds
RetCode: 0
Status: OK
PackageFile: dStruct_1.12.0.tgz
PackageFileSize: 597.6 <A href="http://en.wikipedia.org/wiki/KiB" target="_blank">KiB</A>