Package: dStruct Version: 1.12.0 Command: /Library/Frameworks/R.framework/Resources/bin/R CMD build --keep-empty-dirs --no-resave-data dStruct StartedAt: 2025-02-03 18:40:29 -0500 (Mon, 03 Feb 2025) EndedAt: 2025-02-03 18:41:12 -0500 (Mon, 03 Feb 2025) EllapsedTime: 43.1 seconds RetCode: 0 Status: OK PackageFile: dStruct_1.12.0.tar.gz PackageFileSize: 557.3 KiB