Package: dStruct Version: 1.12.0 Command: /Library/Frameworks/R.framework/Resources/bin/R CMD INSTALL dStruct StartedAt: 2025-02-03 15:20:32 -0500 (Mon, 03 Feb 2025) EndedAt: 2025-02-03 15:20:41 -0500 (Mon, 03 Feb 2025) EllapsedTime: 9.0 seconds RetCode: 0 Status: OK