Package: dStruct Version: 1.12.0 Command: rm -rf dStruct.buildbin-libdir && mkdir dStruct.buildbin-libdir && F:\biocbuild\bbs-3.20-bioc\R\bin\R.exe CMD INSTALL --build --library=dStruct.buildbin-libdir dStruct_1.12.0.tar.gz StartedAt: 2025-02-04 08:24:55 -0500 (Tue, 04 Feb 2025) EndedAt: 2025-02-04 08:25:07 -0500 (Tue, 04 Feb 2025) EllapsedTime: 11.6 seconds RetCode: 0 Status: OK PackageFile: dStruct_1.12.0.zip PackageFileSize: 602 KiB