Package: dStruct Version: 1.12.0 Command: chmod a+r dStruct -R && F:\biocbuild\bbs-3.20-bioc\R\bin\R.exe CMD build --keep-empty-dirs --no-resave-data dStruct StartedAt: 2025-02-03 18:47:27 -0500 (Mon, 03 Feb 2025) EndedAt: 2025-02-03 18:47:57 -0500 (Mon, 03 Feb 2025) EllapsedTime: 29.5 seconds RetCode: 0 Status: OK PackageFile: dStruct_1.12.0.tar.gz PackageFileSize: 557.5 KiB