Package: dStruct Version: 1.12.0 Command: /home/biocbuild/R/R/bin/R CMD build --keep-empty-dirs --no-resave-data dStruct StartedAt: 2025-02-03 23:18:50 -0000 (Mon, 03 Feb 2025) EndedAt: 2025-02-03 23:19:11 -0000 (Mon, 03 Feb 2025) EllapsedTime: 21.0 seconds RetCode: 0 Status: OK PackageFile: dStruct_1.12.0.tar.gz PackageFileSize: 623.1 KiB