Package: dStruct Version: 1.12.0 Command: /home/biocbuild/R/R/bin/R CMD check --install=check:dStruct.install-out.txt --library=/home/biocbuild/R/R/site-library --no-vignettes --timings dStruct_1.12.0.tar.gz StartedAt: 2025-02-04 06:37:02 -0000 (Tue, 04 Feb 2025) EndedAt: 2025-02-04 06:38:45 -0000 (Tue, 04 Feb 2025) EllapsedTime: 103.2 seconds RetCode: 0 Status: OK CheckDir: dStruct.Rcheck Warnings: 0