Package: dStruct Version: 1.12.0 Command: /home/biocbuild/R/R/bin/R CMD INSTALL dStruct StartedAt: 2025-02-03 20:28:45 -0000 (Mon, 03 Feb 2025) EndedAt: 2025-02-03 20:28:48 -0000 (Mon, 03 Feb 2025) EllapsedTime: 3.2 seconds RetCode: 0 Status: OK