Package: daMA Version: 1.78.0 Command: rm -rf daMA.buildbin-libdir && mkdir daMA.buildbin-libdir && /Users/biocbuild/BBS/utils/build-universal.sh daMA_1.78.0.tar.gz /Library/Frameworks/R.framework/Resources/bin/R daMA.buildbin-libdir StartedAt: 2025-02-12 14:44:05 -0500 (Wed, 12 Feb 2025) EndedAt: 2025-02-12 14:44:08 -0500 (Wed, 12 Feb 2025) EllapsedTime: 3.4 seconds RetCode: 0 Status: OK PackageFile: daMA_1.78.0.tgz PackageFileSize: 4.058 MiB