Package: daMA Version: 1.78.0 Command: /Library/Frameworks/R.framework/Resources/bin/R CMD INSTALL daMA StartedAt: 2025-02-03 15:12:03 -0500 (Mon, 03 Feb 2025) EndedAt: 2025-02-03 15:12:06 -0500 (Mon, 03 Feb 2025) EllapsedTime: 2.6 seconds RetCode: 0 Status: OK