Package: daMA Version: 1.78.0 Command: /home/biocbuild/bbs-3.20-bioc/R/bin/R CMD build --keep-empty-dirs --no-resave-data --md5 daMA StartedAt: 2025-02-10 16:57:38 -0500 (Mon, 10 Feb 2025) EndedAt: 2025-02-10 16:57:39 -0500 (Mon, 10 Feb 2025) EllapsedTime: 1.0 seconds RetCode: 0 Status: OK PackageFile: daMA_1.78.0.tar.gz PackageFileSize: 4.027 MiB