Package: dada2 Version: 1.34.0 Command: /Library/Frameworks/R.framework/Resources/bin/R CMD check --install=check:dada2.install-out.txt --library=/Library/Frameworks/R.framework/Resources/library --no-vignettes --timings dada2_1.34.0.tar.gz StartedAt: 2025-02-04 17:07:35 -0500 (Tue, 04 Feb 2025) EndedAt: 2025-02-04 17:12:21 -0500 (Tue, 04 Feb 2025) EllapsedTime: 286.5 seconds RetCode: 0 Status: WARNINGS CheckDir: dada2.Rcheck Warnings: 1