Package: dada2 Version: 1.34.0 Command: chmod a+r dada2 -R && F:\biocbuild\bbs-3.20-bioc\R\bin\R.exe CMD build --keep-empty-dirs --no-resave-data dada2 StartedAt: 2025-02-03 18:29:39 -0500 (Mon, 03 Feb 2025) EndedAt: 2025-02-03 18:32:30 -0500 (Mon, 03 Feb 2025) EllapsedTime: 171.4 seconds RetCode: 0 Status: OK PackageFile: dada2_1.34.0.tar.gz PackageFileSize: 2.505 MiB