Package: dada2 Version: 1.34.0 Command: F:\biocbuild\bbs-3.20-bioc\R\bin\R.exe CMD INSTALL dada2 StartedAt: 2025-02-03 17:05:38 -0500 (Mon, 03 Feb 2025) EndedAt: 2025-02-03 17:08:27 -0500 (Mon, 03 Feb 2025) EllapsedTime: 169.4 seconds RetCode: 0 Status: OK