Package: dagLogo
Version: 1.44.0
Command: /Library/Frameworks/R.framework/Resources/bin/R CMD build --keep-empty-dirs --no-resave-data dagLogo
StartedAt: 2025-02-17 22:00:54 -0500 (Mon, 17 Feb 2025)
EndedAt: 2025-02-17 22:03:04 -0500 (Mon, 17 Feb 2025)
EllapsedTime: 129.6 seconds
RetCode: 0
Status: OK
PackageFile: dagLogo_1.44.0.tar.gz
PackageFileSize: 3.112 <A href="http://en.wikipedia.org/wiki/MiB" target="_blank">MiB</A>