Package: dagLogo Version: 1.44.0 Command: /home/biocbuild/bbs-3.20-bioc/R/bin/R CMD check --install=check:dagLogo.install-out.txt --library=/home/biocbuild/bbs-3.20-bioc/R/site-library --timings dagLogo_1.44.0.tar.gz StartedAt: 2025-02-03 21:32:11 -0500 (Mon, 03 Feb 2025) EndedAt: 2025-02-03 21:39:24 -0500 (Mon, 03 Feb 2025) EllapsedTime: 432.4 seconds RetCode: 0 Status: OK CheckDir: dagLogo.Rcheck Warnings: 0