Package: dagLogo Version: 1.44.0 Command: /home/biocbuild/bbs-3.20-bioc/R/bin/R CMD INSTALL dagLogo StartedAt: 2025-02-03 15:39:51 -0500 (Mon, 03 Feb 2025) EndedAt: 2025-02-03 15:40:39 -0500 (Mon, 03 Feb 2025) EllapsedTime: 47.9 seconds RetCode: 0 Status: OK