Package: dagLogo Version: 1.44.0 Command: /home/biocbuild/R/R/bin/R CMD build --keep-empty-dirs --no-resave-data dagLogo StartedAt: 2025-02-03 22:59:30 -0000 (Mon, 03 Feb 2025) EndedAt: 2025-02-03 23:01:42 -0000 (Mon, 03 Feb 2025) EllapsedTime: 132.1 seconds RetCode: 0 Status: OK PackageFile: dagLogo_1.44.0.tar.gz PackageFileSize: 2.496 MiB