Package: dagLogo Version: 1.44.0 Command: /home/biocbuild/R/R/bin/R CMD INSTALL dagLogo StartedAt: 2025-02-03 20:54:32 -0000 (Mon, 03 Feb 2025) EndedAt: 2025-02-03 20:55:29 -0000 (Mon, 03 Feb 2025) EllapsedTime: 56.9 seconds RetCode: 0 Status: OK