Package: dar Version: 1.2.0 Command: /Library/Frameworks/R.framework/Resources/bin/R CMD build --keep-empty-dirs --no-resave-data dar StartedAt: 2025-02-03 21:56:04 -0500 (Mon, 03 Feb 2025) EndedAt: 2025-02-03 21:58:21 -0500 (Mon, 03 Feb 2025) EllapsedTime: 137.0 seconds RetCode: 0 Status: OK PackageFile: dar_1.2.0.tar.gz PackageFileSize: 2.001 MiB