Package: dar Version: 1.2.0 Command: /Library/Frameworks/R.framework/Resources/bin/R CMD check --install=check:dar.install-out.txt --library=/Library/Frameworks/R.framework/Resources/library --no-vignettes --timings dar_1.2.0.tar.gz StartedAt: 2025-02-11 16:55:26 -0500 (Tue, 11 Feb 2025) EndedAt: 2025-02-11 17:08:21 -0500 (Tue, 11 Feb 2025) EllapsedTime: 774.2 seconds RetCode: 0 Status: OK CheckDir: dar.Rcheck Warnings: 0