Package: dar Version: 1.2.0 Command: /Library/Frameworks/R.framework/Resources/bin/R CMD build --keep-empty-dirs --no-resave-data dar StartedAt: 2025-01-30 18:23:50 -0500 (Thu, 30 Jan 2025) EndedAt: 2025-01-30 18:30:01 -0500 (Thu, 30 Jan 2025) EllapsedTime: 371.7 seconds RetCode: 0 Status: OK PackageFile: dar_1.2.0.tar.gz PackageFileSize: 2.002 MiB