Package: dar Version: 1.2.0 Command: /Library/Frameworks/R.framework/Resources/bin/R CMD INSTALL dar StartedAt: 2025-01-30 16:34:41 -0500 (Thu, 30 Jan 2025) EndedAt: 2025-01-30 16:35:33 -0500 (Thu, 30 Jan 2025) EllapsedTime: 51.8 seconds RetCode: 0 Status: OK