Package: dar Version: 1.2.0 Command: /home/biocbuild/bbs-3.20-bioc/R/bin/R CMD build --keep-empty-dirs --no-resave-data --md5 dar StartedAt: 2025-02-03 17:05:02 -0500 (Mon, 03 Feb 2025) EndedAt: 2025-02-03 17:07:02 -0500 (Mon, 03 Feb 2025) EllapsedTime: 120.2 seconds RetCode: 0 Status: OK PackageFile: dar_1.2.0.tar.gz PackageFileSize: 2.033 MiB