Package: dar Version: 1.2.0 Command: rm -rf dar.buildbin-libdir && mkdir dar.buildbin-libdir && F:\biocbuild\bbs-3.20-bioc\R\bin\R.exe CMD INSTALL --build --library=dar.buildbin-libdir dar_1.2.0.tar.gz StartedAt: 2025-01-31 08:29:43 -0500 (Fri, 31 Jan 2025) EndedAt: 2025-01-31 08:30:49 -0500 (Fri, 31 Jan 2025) EllapsedTime: 66.2 seconds RetCode: 0 Status: OK PackageFile: dar_1.2.0.zip PackageFileSize: 2.223 MiB