Package: dar Version: 1.2.0 Command: chmod a+r dar -R && F:\biocbuild\bbs-3.20-bioc\R\bin\R.exe CMD build --keep-empty-dirs --no-resave-data dar StartedAt: 2025-01-30 18:16:48 -0500 (Thu, 30 Jan 2025) EndedAt: 2025-01-30 18:19:53 -0500 (Thu, 30 Jan 2025) EllapsedTime: 185.4 seconds RetCode: 0 Status: OK PackageFile: dar_1.2.0.tar.gz PackageFileSize: 1.852 MiB