Package: dar Version: 1.2.0 Command: F:\biocbuild\bbs-3.20-bioc\R\bin\R.exe CMD INSTALL dar StartedAt: 2025-01-30 16:48:02 -0500 (Thu, 30 Jan 2025) EndedAt: 2025-01-30 16:49:06 -0500 (Thu, 30 Jan 2025) EllapsedTime: 64.4 seconds RetCode: 0 Status: OK