Package: dcGSA Version: 1.34.0 Command: /Library/Frameworks/R.framework/Resources/bin/R CMD check --install=check:dcGSA.install-out.txt --library=/Library/Frameworks/R.framework/Resources/library --no-vignettes --timings dcGSA_1.34.0.tar.gz StartedAt: 2025-02-18 16:54:52 -0500 (Tue, 18 Feb 2025) EndedAt: 2025-02-18 16:55:38 -0500 (Tue, 18 Feb 2025) EllapsedTime: 45.6 seconds RetCode: 0 Status: WARNINGS CheckDir: dcGSA.Rcheck Warnings: 1