Package: dcGSA Version: 1.34.0 Command: rm -rf dcGSA.buildbin-libdir && mkdir dcGSA.buildbin-libdir && /Users/biocbuild/BBS/utils/build-universal.sh dcGSA_1.34.0.tar.gz /Library/Frameworks/R.framework/Resources/bin/R dcGSA.buildbin-libdir StartedAt: 2025-02-04 12:47:07 -0500 (Tue, 04 Feb 2025) EndedAt: 2025-02-04 12:47:19 -0500 (Tue, 04 Feb 2025) EllapsedTime: 12.3 seconds RetCode: 0 Status: OK PackageFile: dcGSA_1.34.0.tgz PackageFileSize: 51.35 KiB