Package: dcGSA Version: 1.34.0 Command: /Library/Frameworks/R.framework/Resources/bin/R CMD INSTALL dcGSA StartedAt: 2025-02-03 15:33:25 -0500 (Mon, 03 Feb 2025) EndedAt: 2025-02-03 15:33:36 -0500 (Mon, 03 Feb 2025) EllapsedTime: 11.1 seconds RetCode: 0 Status: OK