Package: dcanr Version: 1.22.0 Command: /Library/Frameworks/R.framework/Resources/bin/R CMD check --install=check:dcanr.install-out.txt --library=/Library/Frameworks/R.framework/Resources/library --no-vignettes --timings dcanr_1.22.0.tar.gz StartedAt: 2025-02-04 17:16:05 -0500 (Tue, 04 Feb 2025) EndedAt: 2025-02-04 17:17:13 -0500 (Tue, 04 Feb 2025) EllapsedTime: 68.1 seconds RetCode: 0 Status: OK CheckDir: dcanr.Rcheck Warnings: 0