Package: dce Version: 1.14.0 Command: /Library/Frameworks/R.framework/Resources/bin/R CMD build --keep-empty-dirs --no-resave-data dce StartedAt: 2025-02-03 21:58:20 -0500 (Mon, 03 Feb 2025) EndedAt: 2025-02-03 22:00:55 -0500 (Mon, 03 Feb 2025) EllapsedTime: 155.7 seconds RetCode: 1 Status: ERROR PackageFile: None PackageFileSize: NA